BEGIN:VCALENDAR
VERSION:2.0
PRODID:-//Christian Meditation Center - ECPv6.15.20//NONSGML v1.0//EN
CALSCALE:GREGORIAN
METHOD:PUBLISH
X-ORIGINAL-URL:https://www.christianmeditationcenter.org
X-WR-CALDESC:Events for Christian Meditation Center
REFRESH-INTERVAL;VALUE=DURATION:PT1H
X-Robots-Tag:noindex
X-PUBLISHED-TTL:PT1H
BEGIN:VTIMEZONE
TZID:Europe/London
BEGIN:DAYLIGHT
TZOFFSETFROM:+0000
TZOFFSETTO:+0100
TZNAME:BST
DTSTART:20240331T010000
END:DAYLIGHT
BEGIN:STANDARD
TZOFFSETFROM:+0100
TZOFFSETTO:+0000
TZNAME:GMT
DTSTART:20241027T010000
END:STANDARD
BEGIN:DAYLIGHT
TZOFFSETFROM:+0000
TZOFFSETTO:+0100
TZNAME:BST
DTSTART:20250330T010000
END:DAYLIGHT
BEGIN:STANDARD
TZOFFSETFROM:+0100
TZOFFSETTO:+0000
TZNAME:GMT
DTSTART:20251026T010000
END:STANDARD
BEGIN:DAYLIGHT
TZOFFSETFROM:+0000
TZOFFSETTO:+0100
TZNAME:BST
DTSTART:20260329T010000
END:DAYLIGHT
BEGIN:STANDARD
TZOFFSETFROM:+0100
TZOFFSETTO:+0000
TZNAME:GMT
DTSTART:20261025T010000
END:STANDARD
END:VTIMEZONE
BEGIN:VTIMEZONE
TZID:America/New_York
BEGIN:DAYLIGHT
TZOFFSETFROM:-0500
TZOFFSETTO:-0400
TZNAME:EDT
DTSTART:20240310T070000
END:DAYLIGHT
BEGIN:STANDARD
TZOFFSETFROM:-0400
TZOFFSETTO:-0500
TZNAME:EST
DTSTART:20241103T060000
END:STANDARD
BEGIN:DAYLIGHT
TZOFFSETFROM:-0500
TZOFFSETTO:-0400
TZNAME:EDT
DTSTART:20250309T070000
END:DAYLIGHT
BEGIN:STANDARD
TZOFFSETFROM:-0400
TZOFFSETTO:-0500
TZNAME:EST
DTSTART:20251102T060000
END:STANDARD
BEGIN:DAYLIGHT
TZOFFSETFROM:-0500
TZOFFSETTO:-0400
TZNAME:EDT
DTSTART:20260308T070000
END:DAYLIGHT
BEGIN:STANDARD
TZOFFSETFROM:-0400
TZOFFSETTO:-0500
TZNAME:EST
DTSTART:20261101T060000
END:STANDARD
END:VTIMEZONE
BEGIN:VEVENT
DTSTART;TZID=Europe/London:20250707T190000
DTEND;TZID=Europe/London:20250707T203000
DTSTAMP:20260421T181509
CREATED:20250620T174908Z
LAST-MODIFIED:20250620T175015Z
UID:10000337-1751914800-1751920200@www.christianmeditationcenter.org
SUMMARY:Christian Meditation Training (Europe/London)
DESCRIPTION:Discover the Power of Christian Meditation \nThere is a space within us\, a sacred place\, where we can experience the presence of God.  Christian meditation is a bridge leading us to the portal of the Kingdom of God.  A place where we can find peace and rest for our souls in the midst of chaos. \nAre you seeking a deeper connection with yourself\, others\, and God? Join us for a transformative Christian meditation training that will guide you on a path of spiritual growth and inner peace. \nWhat is Christian Meditation? In the quiet moments of Christian meditation\, we find the other side of our conversation with God\, often overlooked in the busyness of our prayers. Prayer\, where we express gratitude and lay our requests before Him\, is like a dialogue. Yet\, in the hush that follows\, we often forget to await His response. Unlike prayer\, which involves talking and thinking\, Christian meditation is about being still and attuning ourselves to God’s voice\, listening with openness to whatever He may share with us. It’s a sacred pause\, a moment to hear His gentle whispers. Be still before the Lord and wait patiently for him. -Psalm 37:7 \nExplore the History and Benefits \nIn our comprehensive 1.5-hour training\, you’ll dive into the rich history of Christian meditation\, uncovering its roots and significance in the spiritual journey. Discover the profound benefits it brings\, including: \n✨Experiencing the expansion of the Fruit of the Spirit ✨Deepening your relationship with yourself\, others\, and God ✨ Cultivating inner peace and tranquility in a chaotic world ✨ Nurturing a greater sense of purpose and direction ✨ Enhancing your ability to listen and discern God’s voice. \nWhat to Expect \nOur experienced instructor will lead you through practical teaching\, a guided Christian meditation session\, and insightful discussions. You’ll gain a solid foundation in Christian meditation and be equipped to practice on your own. \nOngoing Support and Community \nYour registration also includes free access to ongoing group sessions where you can connect with fellow participants\, share experiences\, and receive continued guidance on your meditation journey. \n📅 Date and Time: July 7\, 2025 from 7 – 8:30 p.m. Europe/London Time \nYou can join us online via Zoom.  Once you register\, we will send you the Zoom link. \nInvestment Join this life-changing training for only $50. \nReserve Your Spot Today Register your attendance and pay below. \nEmbrace the stillness within and deepen your connection with God through Christian meditation. Start your journey today! \nCheck out what others are saying about the book\, Come Closer: The Practice of Christian Meditation. \nEvent Registration Form \n\n\n  \n\n\n\n Your name\n \n \n Your email\n \n \n Telephone\n \n \n Event Name\n \n \n\n\n Δ \n\n\n\nPlease select a payment method. \n \n\n \n 
URL:https://www.christianmeditationcenter.org/event/christian-meditation-training-9/
LOCATION:Training via Zoom
CATEGORIES:Meditation Seminar
ATTACH;FMTTYPE=image/jpeg:https://www.christianmeditationcenter.org/wp-content/uploads/2022/12/Christian-Meditation-1.jpg
ORGANIZER;CN="Christian Meditation Center":MAILTO:tyerkes@christianmeditationcenter.org
END:VEVENT
BEGIN:VEVENT
DTSTART;TZID=America/New_York:20250519T190000
DTEND;TZID=America/New_York:20250519T203000
DTSTAMP:20260421T181509
CREATED:20250318T004717Z
LAST-MODIFIED:20250318T004717Z
UID:10000328-1747681200-1747686600@www.christianmeditationcenter.org
SUMMARY:Christian Meditation Training
DESCRIPTION:Discover the Power of Christian Meditation \nThere is a space within us\, a sacred place\, where we can experience the presence of God.  Christian meditation is a bridge leading us to the portal of the Kingdom of God.  A place where we can find peace and rest for our souls in the midst of chaos. \nAre you seeking a deeper connection with yourself\, others\, and God? Join us for a transformative Christian meditation training that will guide you on a path of spiritual growth and inner peace. \nWhat is Christian Meditation? In the quiet moments of Christian meditation\, we find the other side of our conversation with God\, often overlooked in the busyness of our prayers. Prayer\, where we express gratitude and lay our requests before Him\, is like a dialogue. Yet\, in the hush that follows\, we often forget to await His response. Unlike prayer\, which involves talking and thinking\, Christian meditation is about being still and attuning ourselves to God’s voice\, listening with openness to whatever He may share with us. It’s a sacred pause\, a moment to hear His gentle whispers. Be still before the Lord and wait patiently for him. -Psalm 37:7 \nExplore the History and Benefits \nIn our comprehensive 1.5-hour training\, you’ll dive into the rich history of Christian meditation\, uncovering its roots and significance in the spiritual journey. Discover the profound benefits it brings\, including: \n✨Experiencing the expansion of the Fruit of the Spirit ✨Deepening your relationship with yourself\, others\, and God ✨ Cultivating inner peace and tranquility in a chaotic world ✨ Nurturing a greater sense of purpose and direction ✨ Enhancing your ability to listen and discern God’s voice. \nWhat to Expect \nOur experienced instructor will lead you through practical teaching\, a guided Christian meditation session\, and insightful discussions. You’ll gain a solid foundation in Christian meditation and be equipped to practice on your own. \nOngoing Support and Community \nYour registration also includes free access to ongoing group sessions where you can connect with fellow participants\, share experiences\, and receive continued guidance on your meditation journey. \n📅 Date and Time: May 19\, 2025 from 7 – 8:30 p.m. Eastern Time \nYou can join us online via Zoom.  Once you register\, we will send you the Zoom link. \nInvestment Join this life-changing training for only $50. \nReserve Your Spot Today Register your attendance and pay below. \nEmbrace the stillness within and deepen your connection with God through Christian meditation. Start your journey today! \nCheck out what others are saying about the book\, Come Closer: The Practice of Christian Meditation.   \nEvent Registration Form \n\n\n  \n\n\n\n Your name\n \n \n Your email\n \n \n Telephone\n \n \n Event Name\n \n \n\n\n Δ \n\n\n\nPlease select a payment method. \n \n \n \n\n\n\n\n\n\n\n \n 
URL:https://www.christianmeditationcenter.org/event/christian-meditation-training-7/
LOCATION:Training via Zoom
CATEGORIES:Meditation Seminar
ATTACH;FMTTYPE=image/jpeg:https://www.christianmeditationcenter.org/wp-content/uploads/2022/12/Christian-Meditation-1.jpg
ORGANIZER;CN="Christian Meditation Center":MAILTO:tyerkes@christianmeditationcenter.org
END:VEVENT
BEGIN:VEVENT
DTSTART;TZID=America/New_York:20250428T190000
DTEND;TZID=America/New_York:20250428T203000
DTSTAMP:20260421T181509
CREATED:20250303T232745Z
LAST-MODIFIED:20250318T003627Z
UID:10000324-1745866800-1745872200@www.christianmeditationcenter.org
SUMMARY:Christian Meditation Training
DESCRIPTION:Discover the Power of Christian Meditation \nThere is a space within us\, a sacred place\, where we can experience the presence of God.  Christian meditation is a bridge leading us to the portal of the Kingdom of God.  A place where we can find peace and rest for our souls in the midst of chaos. \nAre you seeking a deeper connection with yourself\, others\, and God? Join us for a transformative Christian meditation training that will guide you on a path of spiritual growth and inner peace. \nWhat is Christian Meditation? In the quiet moments of Christian meditation\, we find the other side of our conversation with God\, often overlooked in the busyness of our prayers. Prayer\, where we express gratitude and lay our requests before Him\, is like a dialogue. Yet\, in the hush that follows\, we often forget to await His response. Unlike prayer\, which involves talking and thinking\, Christian meditation is about being still and attuning ourselves to God’s voice\, listening with openness to whatever He may share with us. It’s a sacred pause\, a moment to hear His gentle whispers. Be still before the Lord and wait patiently for him. -Psalm 37:7 \nExplore the History and Benefits \nIn our comprehensive 1.5-hour training\, you’ll dive into the rich history of Christian meditation\, uncovering its roots and significance in the spiritual journey. Discover the profound benefits it brings\, including: \n✨Experiencing the expansion of the Fruit of the Spirit ✨Deepening your relationship with yourself\, others\, and God ✨ Cultivating inner peace and tranquility in a chaotic world ✨ Nurturing a greater sense of purpose and direction ✨ Enhancing your ability to listen and discern God’s voice. \nWhat to Expect \nOur experienced instructor will lead you through practical teaching\, a guided Christian meditation session\, and insightful discussions. You’ll gain a solid foundation in Christian meditation and be equipped to practice on your own. \nOngoing Support and Community \nYour registration also includes free access to ongoing group sessions where you can connect with fellow participants\, share experiences\, and receive continued guidance on your meditation journey. \n📅 Date and Time: April 28\, 2025 from 7 – 8:30 p.m. Eastern Time \nYou can join us online via Zoom.  Once you register\, we will send you the Zoom link. \nInvestment Join this life-changing training for only $50. \nReserve Your Spot Today Register your attendance and pay below. \nEmbrace the stillness within and deepen your connection with God through Christian meditation. Start your journey today! \nCheck out what others are saying about the book\, Come Closer: The Practice of Christian Meditation.   \nEvent Registration Form \n\n\n  \n\n\n\n Your name\n \n \n Your email\n \n \n Telephone\n \n \n Event Name\n \n \n\n\n Δ \n\n\n\nPlease select a payment method. \n \n \n \n\n\n\n\n\n\n\n \n 
URL:https://www.christianmeditationcenter.org/event/christian-meditation-training-6/
LOCATION:Training via Zoom
CATEGORIES:Meditation Seminar
ATTACH;FMTTYPE=image/jpeg:https://www.christianmeditationcenter.org/wp-content/uploads/2022/12/Christian-Meditation-1.jpg
ORGANIZER;CN="Christian Meditation Center":MAILTO:tyerkes@christianmeditationcenter.org
END:VEVENT
END:VCALENDAR