BEGIN:VCALENDAR
VERSION:2.0
PRODID:-//Christian Meditation Center - ECPv6.15.20//NONSGML v1.0//EN
CALSCALE:GREGORIAN
METHOD:PUBLISH
X-WR-CALNAME:Christian Meditation Center
X-ORIGINAL-URL:https://www.christianmeditationcenter.org
X-WR-CALDESC:Events for Christian Meditation Center
REFRESH-INTERVAL;VALUE=DURATION:PT1H
X-Robots-Tag:noindex
X-PUBLISHED-TTL:PT1H
BEGIN:VTIMEZONE
TZID:America/New_York
BEGIN:DAYLIGHT
TZOFFSETFROM:-0500
TZOFFSETTO:-0400
TZNAME:EDT
DTSTART:20250309T070000
END:DAYLIGHT
BEGIN:STANDARD
TZOFFSETFROM:-0400
TZOFFSETTO:-0500
TZNAME:EST
DTSTART:20251102T060000
END:STANDARD
BEGIN:DAYLIGHT
TZOFFSETFROM:-0500
TZOFFSETTO:-0400
TZNAME:EDT
DTSTART:20260308T070000
END:DAYLIGHT
BEGIN:STANDARD
TZOFFSETFROM:-0400
TZOFFSETTO:-0500
TZNAME:EST
DTSTART:20261101T060000
END:STANDARD
BEGIN:DAYLIGHT
TZOFFSETFROM:-0500
TZOFFSETTO:-0400
TZNAME:EDT
DTSTART:20270314T070000
END:DAYLIGHT
BEGIN:STANDARD
TZOFFSETFROM:-0400
TZOFFSETTO:-0500
TZNAME:EST
DTSTART:20271107T060000
END:STANDARD
END:VTIMEZONE
BEGIN:VEVENT
DTSTART;VALUE=DATE:20260401
DTEND;VALUE=DATE:20260701
DTSTAMP:20260421T080250
CREATED:20260310T180116Z
LAST-MODIFIED:20260310T181142Z
UID:10000425-1775001600-1782863999@www.christianmeditationcenter.org
SUMMARY:Christian Meditation Sessions
DESCRIPTION:Christian Meditation Sessions\nRest in God’s Presence\nIn a busy world filled with noise and distraction\, Christian meditation offers a simple yet powerful invitation: to be still and rest in the presence of God. \nAt the Christian Meditation Center\, our weekly meditation sessions provide a peaceful space where people from all backgrounds can gather to practice stillness\, deepen their relationship with God\, and experience the healing presence of the Holy Spirit. \nWhether you are new to meditation or have practiced for years\, you are warmly welcomed into this sacred time of silence and prayer. \n\nWhy Meditate in Community?\nWhile meditation can be practiced alone\, meditating with others often deepens the experience. \nThere is something powerful about knowing that others are quietly turning their hearts toward God at the same time you are. Our online sessions create a gentle sense of connection and encouragement as we grow together in faith and stillness. \nMany participants discover that these regular sessions help them: \n• Develop a consistent meditation practice• Experience greater inner peace and calm• Grow in awareness of God’s presence• Release stress and rest in God’s love• Deepen their spiritual life in a supportive community \n\nWhat to Expect in a Session\nOur sessions are simple\, quiet\, and welcoming. \nEach session typically includes: \n• A brief welcome or opening reading• Gentle guidance to help settle into stillness and silence• A short closing prayer or reflection \nYou may sit comfortably in a chair or on the floor. There is no pressure to “do it perfectly.” The intention is simply to be present with God. \nMany people find this time becomes a sacred pause in their day—a place where the mind quiets\, the heart opens\, and the soul finds rest. \n\nWeekly Christian Meditation Schedule\n(Eastern Time) \nAll sessions are 20 minutes\, except Friday. \nSunday – 7:00 a.m. | NadineMonday – 12:00 p.m. | MonicaTuesday – 10:00 p.m. | LeighWednesday – 11:00 a.m. | LeahThursday – 5:30 p.m. | VickiFriday – 11:00 a.m. | Leah (15 minutes)Saturday – 9:00 a.m. | Vicki \nAttend whenever it works for your schedule. \n\nNew to Christian Meditation?\nWe’re happy to support beginners. \nIf you are new to the practice\, we encourage you to attend one of our Christian Meditation Training classes\, where you can learn the foundations of the practice and ask questions. \n\nHow to Join\nOnce you register\, we will send you the Zoom link for the sessions. \nIf you would like a text reminder 30 minutes before the session\, simply let us know when you register. \n\nA Gift to the Community\nAll meditation sessions are free to attend. \nIf you feel blessed by this offering\, we invite you to consider making a donation to the Christian Meditation Center to help support this ministry and allow others to experience the peace of God through meditation. \n\nBegin Your Journey into Stillness\nPause.Be still.Rest in God. \nJoin us for Christian meditation and discover the quiet place within where God’s presence is always waiting. \nRegister today and receive the Zoom link to join us. \nEvent Registration Form\n\n\n  \n\n\n\n Your name\n \n \n Your email\n \n \n Telephone\n \n \n Event Name\n \n \n\n\n Δ
URL:https://www.christianmeditationcenter.org/event/christian-meditation-sessions/
LOCATION:Zoom Virtual Group\, NJ\, United States
CATEGORIES:Meditation Sessions
ATTACH;FMTTYPE=image/png:https://www.christianmeditationcenter.org/wp-content/uploads/2025/07/ChatGPT-Image-Jun-28-2025-12_53_57-PM-e1751561416859.png
ORGANIZER;CN="Christian Meditation Center":MAILTO:tyerkes@christianmeditationcenter.org
END:VEVENT
END:VCALENDAR